BEGIN:VCALENDAR
PRODID:-//eluceo/ical//2.0/EN
VERSION:2.0
CALSCALE:GREGORIAN
BEGIN:VEVENT
UID:c0366361d004619ec839ad7962a0e647
DTSTAMP:20260421T124452Z
SUMMARY:avslutning
DESCRIPTION:Talare: mer info kommer
URL:https://stockholm-sydvast.rotary2355.se/sv/agenda/show/216420
DTSTART;TZID=Europe/Zurich:20260611T180000
DTEND;TZID=Europe/Zurich:20260611T210000
LOCATION:Hemma hos presidenten Nyckelpigsvägen 10 i Älvsjö
CATEGORIES:Rotary
END:VEVENT
BEGIN:VTIMEZONE
TZID:Europe/Zurich
BEGIN:DAYLIGHT
DTSTART:20260611T180000
TZNAME:CEST
TZOFFSETTO:+0200
TZOFFSETFROM:+0200
END:DAYLIGHT
END:VTIMEZONE
END:VCALENDAR
